BEGIN:VCALENDAR
VERSION:2.0
PRODID:-//DIGITAL FACTORY//EVENTS MAKER V1.6.14//EN
CALSCALE:GREGORIAN
BEGIN:VEVENT
DTEND:20260620T220000Z
UID:69e76f2813802
DTSTAMP:20260421T123552Z
CATEGORIES:Live Music
LOCATION:Mountain Run Winery 10753 Mountain Run Lake Rd, Culpeper, VA, 22701, US
DESCRIPTION:Come out to Mountain Run Winery on Saturday June 20th and enjoy some great 80s\, 90s\, and 2000s rock by Vertigo Down from 3-6pm.  The winery and brewery are open from 12-7pm and we will have Juju's Indian Cuisine and Sweets onsite with delicious Indian inspired fare as well.    It's a great way to spend a summer afternoon!        For the most up-to-date information\, please visit the Facebook Event Site
URL;VALUE=URI:http://www.mountainrunwinery.com/events-2/event/vertigo-down-at-mtn-run/
SUMMARY:Vertigo Down at Mtn Run
DTSTART:20260620T190000Z
END:VEVENT
END:VCALENDAR
