BEGIN:VCALENDAR
VERSION:2.0
PRODID:-//DIGITAL FACTORY//EVENTS MAKER V1.6.14//EN
CALSCALE:GREGORIAN
BEGIN:VEVENT
DTEND:20231015T220000Z
UID:69e620e542411
DTSTAMP:20260420T124941Z
CATEGORIES:Live Music
LOCATION:Mountain Run Winery 10753 Mountain Run Lake Rd, Culpeper, VA, 22701, US
DESCRIPTION:Come out on Sunday\, October 15th  and listen to local group The Unsuitables playing their Motown\, funk\, and blues inspired music!        Come wind down your weekend with us at our popular live music series: Sunday Sunset Sippers. On Sunday\, October 15th come out and listen to local favorites The Unsuitables playing their Motown\, funk\, and blues inspired music!  With delicious pizzas by Fabulous Foods Brick-Oven Pizza available\, plenty of outdoor seating\, family-friendly amenities\, and award winning wines\, beers\, and ciders available\, this is one event you don't want to miss!          For the most up-to-date information\, please visit the Facebook Event Site
URL;VALUE=URI:http://www.mountainrunwinery.com/events-2/event/unsuitables-at-mtn-run/
SUMMARY:Unsuitables at Mtn Run
DTSTART:20231015T190000Z
END:VEVENT
END:VCALENDAR
