BEGIN:VCALENDAR
VERSION:2.0
PRODID:-//DIGITAL FACTORY//EVENTS MAKER V1.6.14//EN
CALSCALE:GREGORIAN
BEGIN:VEVENT
DTEND:20260621T230000Z
UID:69e7724024c63
DTSTAMP:20260421T124904Z
CATEGORIES:Live Music\,Special Feature
LOCATION:Mountain Run Winery 10753 Mountain Run Lake Rd, Culpeper, VA, 22701, US
DESCRIPTION:Looking for a place to take the family and relax outside for Father's Day weekend that has music\, delicious food\, tons of space for the whole family (including playground)\, and great wines and ciders? Look no further than Mountain Run Winery!              Come out between noon-7pm on Sunday\, June 21st to enjoy a relaxing day at the winery. Local favorites The Unsuitables will be playing during the afternoon.    Did we forget to mention that we've got TJJ Island Catering out for the day for all your munching needs?    So be sure to come out and enjoy delicious eats\, music\, and libations and celebrate the amazing father in your life!                For the most up-to-date information\, please visit the Facebook Event Site
URL;VALUE=URI:http://www.mountainrunwinery.com/events-2/event/fathers-day-at-the-winery-2/
SUMMARY:Father&#039\;s Day at the Winery
DTSTART:20260621T160000Z
END:VEVENT
END:VCALENDAR
