BEGIN:VCALENDAR
VERSION:2.0
PRODID:-//DIGITAL FACTORY//EVENTS MAKER V1.6.14//EN
CALSCALE:GREGORIAN
BEGIN:VEVENT
DTEND:20210919T000000Z
UID:69e607d54741c
DTSTAMP:20260420T110245Z
CATEGORIES:Special Feature
LOCATION:Mountain Run Winery 10753 Mountain Run Lake Rd, Culpeper, VA, 22701, US
DESCRIPTION:Come out and eat for a good cause!   The Culpeper Young Professional's mission is to create a platform for members to build relationships\, develop professional skills and contribute to the local community. The purpose of the Annual Crab Feast is to raise funds specifically for the chosen annual project to fulfill their mission to contribute to the local community and provide funding for our networking and social programs throughout the year.    The 2021 Annual Project is to support our community and local non-profits by raising funds for the future leaders of our community. The chosen non-profit is The Groundwork Project\, a leadership development &amp\; career readiness program for at risk youth.      This event will be an all you can eat Crab and Low Country Broil! Beer\, wine and non alcoholic beverages will be available for purchase .     Live music!      Eventbrite Ticket Sales End 5:00PM on Friday September 17th.    For up-to-date information\, see the Facebook Event Page
URL;VALUE=URI:http://www.mountainrunwinery.com/events-2/event/cyp-12th-annual-charity-crab-feast/
SUMMARY:CYP 12th Annual Charity Crab Feast
DTSTART:20210918T200000Z
END:VEVENT
END:VCALENDAR
